BEGIN:VCALENDAR
PRODID:-//Microsoft Corporation//Outlook 12.0 MIMEDIR//EN
VERSION:2.0
CALSCALE:GREGORIAN
BEGIN:VEVENT
UID: aa566bb2-5f74-4bee-bc06-7127cfccfd09
SUMMARY:Kohtumine Koigi Kooli mentoriga programmist "Tark Kool"
DTSTAMP:20260407
DTSTART:20260407
DTEND:20260408
DURATION:P1D
LOCATION:Koigi Kool
DESCRIPTION: <p data-start="0" data-end="99"><strong data-start="0" data-end="99">Tark Kool programmi mentor külastas Koigi Kooli – fookuses senised tulemused ja tulevikuplaanid</strong></p><p data-start="101" data-end="374">Koigi Koolis toimus hiljuti kohtumine Tark Kool programmi mentoriga, kelle visiidi eesmärk oli anda ülevaade seni tehtud tegevustest ning arutada edasisi arengusuundi. Kohtumine tõi kokku kooli juhtkonna, et ühiselt hinnata programmi mõju ning seada uusi sihte.</p><p data-start="376" data-end="713">Tark Kool programmi mentor tutvustas põhjalikult seniseid edusamme, tuues esile õpetajate aktiivse osaluse ning digipädevuste järjepideva arendamise. Rõhutati koostöö olulisust nii koolisiseselt kui ka laiemas haridusvõrgustikus.</p><p data-start="715" data-end="1032">Kooli direktor <span class="hover:entity-accent entity-underline inline cursor-pointer align-baseline whitespace-normal">Margit Reinpõld</span> andis omalt poolt ülevaate kooli senistest kogemustest ning tõi esile õpetajate valmisoleku muutustega kaasa minna. Ta märkis, et "Tark Kool" programm on aidanud kujundada õppijakesksemat lähenemist.</p><p data-start="1034" data-end="1311">Kohtumise käigus arutati ka edasisi plaane.</p><p data-start="1034" data-end="1311">Antti Leigri:</p><div class="xdj266r x14z9mp xat24cr x1lziwak x1vvkbs x126k92a" style="-webkit-text-stroke-width:0px;background-color:rgb(255, 255, 255);border-width:0px;box-sizing:border-box;color:rgb(5, 5, 5);font-family:&quot;Segoe UI Historic&quot;, &quot;Segoe UI&quot;, Helvetica, Arial, sans-serif;font-feature-settings:inherit;font-kerning:inherit;font-language-override:inherit;font-optical-sizing:inherit;font-size-adjust:inherit;font-size:15px;font-stretch:inherit;font-style:normal;font-variant-alternates:inherit;font-variant-caps:normal;font-variant-east-asian:inherit;font-variant-emoji:inherit;font-variant-ligatures:normal;font-variant-numeric:inherit;font-variant-position:inherit;font-variation-settings:inherit;font-weight:400;letter-spacing:normal;line-height:inherit;margin-inline:0px;margin:0px;orphans:2;overflow-wrap:break-word;padding:0px;text-align:start;text-decoration-color:initial;text-decoration-style:initial;text-decoration-thickness:initial;text-indent:0px;text-transform:none;vertical-align:baseline;white-space:pre-wrap;widows:2;word-spacing:0px;"><div style="border-width:0px;box-sizing:border-box;font:inherit;margin:0px;padding:0px;text-align:start;vertical-align:baseline;" dir="auto">Täna oli sisukas ja inspireeriv päev Koigi ja Imavere koolis.</div></div><div class="x14z9mp xat24cr x1lziwak x1vvkbs xtlvy1s x126k92a" style="-webkit-text-stroke-width:0px;background-color:rgb(255, 255, 255);border-width:0px;box-sizing:border-box;color:rgb(5, 5, 5);font-family:&quot;Segoe UI Historic&quot;, &quot;Segoe UI&quot;, Helvetica, Arial, sans-serif;font-feature-settings:inherit;font-kerning:inherit;font-language-override:inherit;font-optical-sizing:inherit;font-size-adjust:inherit;font-size:15px;font-stretch:inherit;font-style:normal;font-variant-alternates:inherit;font-variant-caps:normal;font-variant-east-asian:inherit;font-variant-emoji:inherit;font-variant-ligatures:normal;font-variant-numeric:inherit;font-variant-position:inherit;font-variation-settings:inherit;font-weight:400;letter-spacing:normal;line-height:inherit;margin-inline:0px;margin:0.5em 0px 0px;orphans:2;overflow-wrap:break-word;padding:0px;text-align:start;text-decoration-color:initial;text-decoration-style:initial;text-decoration-thickness:initial;text-indent:0px;text-transform:none;vertical-align:baseline;white-space:pre-wrap;widows:2;word-spacing:0px;"><div style="border-width:0px;box-sizing:border-box;font:inherit;margin:0px;padding:0px;text-align:start;vertical-align:baseline;" dir="auto">Mul on rõõm olla nende koolide mentor üldhariduskoolide arendusprogrammis 2022–2029, kus keskendume teadlikule ja andmepõhisele kooliarendusele ning õppijakeskse koolikultuuri kujundamisele.</div></div><div class="x14z9mp xat24cr x1lziwak x1vvkbs xtlvy1s x126k92a" style="-webkit-text-stroke-width:0px;background-color:rgb(255, 255, 255);border-width:0px;box-sizing:border-box;color:rgb(5, 5, 5);font-family:&quot;Segoe UI Historic&quot;, &quot;Segoe UI&quot;, Helvetica, Arial, sans-serif;font-feature-settings:inherit;font-kerning:inherit;font-language-override:inherit;font-optical-sizing:inherit;font-size-adjust:inherit;font-size:15px;font-stretch:inherit;font-style:normal;font-variant-alternates:inherit;font-variant-caps:normal;font-variant-east-asian:inherit;font-variant-emoji:inherit;font-variant-ligatures:normal;font-variant-numeric:inherit;font-variant-position:inherit;font-variation-settings:inherit;font-weight:400;letter-spacing:normal;line-height:inherit;margin-inline:0px;margin:0.5em 0px 0px;orphans:2;overflow-wrap:break-word;padding:0px;text-align:start;text-decoration-color:initial;text-decoration-style:initial;text-decoration-thickness:initial;text-indent:0px;text-transform:none;vertical-align:baseline;white-space:pre-wrap;widows:2;word-spacing:0px;"><div style="border-width:0px;box-sizing:border-box;font:inherit;margin:0px;padding:0px;text-align:start;vertical-align:baseline;" dir="auto">Kohtumisel arutasime koos koolimeeskonnaga olulisi teemasid. Kuidas teha paremaid otsuseid, toetada õpetajaid ja luua keskkond, kus iga õppija saab maksimaalselt areneda.</div></div><div class="x14z9mp xat24cr x1lziwak x1vvkbs xtlvy1s x126k92a" style="-webkit-text-stroke-width:0px;background-color:rgb(255, 255, 255);border-width:0px;box-sizing:border-box;color:rgb(5, 5, 5);font-family:&quot;Segoe UI Historic&quot;, &quot;Segoe UI&quot;, Helvetica, Arial, sans-serif;font-feature-settings:inherit;font-kerning:inherit;font-language-override:inherit;font-optical-sizing:inherit;font-size-adjust:inherit;font-size:15px;font-stretch:inherit;font-style:normal;font-variant-alternates:inherit;font-variant-caps:normal;font-variant-east-asian:inherit;font-variant-emoji:inherit;font-variant-ligatures:normal;font-variant-numeric:inherit;font-variant-position:inherit;font-variation-settings:inherit;font-weight:400;letter-spacing:normal;line-height:inherit;margin-inline:0px;margin:0.5em 0px 0px;orphans:2;overflow-wrap:break-word;padding:0px;text-align:start;text-decoration-color:initial;text-decoration-style:initial;text-decoration-thickness:initial;text-indent:0px;text-transform:none;vertical-align:baseline;white-space:pre-wrap;widows:2;word-spacing:0px;"><div style="border-width:0px;box-sizing:border-box;font:inherit;margin:0px;padding:0px;text-align:start;vertical-align:baseline;" dir="auto">Eriti hea meel oli kohtuda kooli direktori Margitiga, kes on avatud, pühendunud ja selge visiooniga juht, kelle eestvedamisel liiguvad koolid kindlalt edasi.</div></div><div class="x14z9mp xat24cr x1lziwak x1vvkbs xtlvy1s x126k92a" style="-webkit-text-stroke-width:0px;background-color:rgb(255, 255, 255);border-width:0px;box-sizing:border-box;color:rgb(5, 5, 5);font-family:&quot;Segoe UI Historic&quot;, &quot;Segoe UI&quot;, Helvetica, Arial, sans-serif;font-feature-settings:inherit;font-kerning:inherit;font-language-override:inherit;font-optical-sizing:inherit;font-size-adjust:inherit;font-size:15px;font-stretch:inherit;font-style:normal;font-variant-alternates:inherit;font-variant-caps:normal;font-variant-east-asian:inherit;font-variant-emoji:inherit;font-variant-ligatures:normal;font-variant-numeric:inherit;font-variant-position:inherit;font-variation-settings:inherit;font-weight:400;letter-spacing:normal;line-height:inherit;margin-inline:0px;margin:0.5em 0px 0px;orphans:2;overflow-wrap:break-word;padding:0px;text-align:start;text-decoration-color:initial;text-decoration-style:initial;text-decoration-thickness:initial;text-indent:0px;text-transform:none;vertical-align:baseline;white-space:pre-wrap;widows:2;word-spacing:0px;"><div style="border-width:0px;box-sizing:border-box;font:inherit;margin:0px;padding:0px;text-align:start;vertical-align:baseline;" dir="auto">Sellised kohtumised annavad energiat ja kinnitavad, et Eesti haridus areneb õigel teel: koostöös, usalduses ja pidevas õppimises.</div></div><p><strong>Link: </strong>https://www.koigikool.ee/et/sundmuste-kalender/kohtumine-koigi-kooli-mentoriga-programmist-tark-kool</p><p><strong>Hind: </strong></p>
STATUS:CONFIRMED
SEQUENCE:3
X-ALT-DESC;FMTTYPE=text/html:<p data-start="0" data-end="99"><strong data-start="0" data-end="99">Tark Kool programmi mentor külastas Koigi Kooli – fookuses senised tulemused ja tulevikuplaanid</strong></p><p data-start="101" data-end="374">Koigi Koolis toimus hiljuti kohtumine Tark Kool programmi mentoriga, kelle visiidi eesmärk oli anda ülevaade seni tehtud tegevustest ning arutada edasisi arengusuundi. Kohtumine tõi kokku kooli juhtkonna, et ühiselt hinnata programmi mõju ning seada uusi sihte.</p><p data-start="376" data-end="713">Tark Kool programmi mentor tutvustas põhjalikult seniseid edusamme, tuues esile õpetajate aktiivse osaluse ning digipädevuste järjepideva arendamise. Rõhutati koostöö olulisust nii koolisiseselt kui ka laiemas haridusvõrgustikus.</p><p data-start="715" data-end="1032">Kooli direktor <span class="hover:entity-accent entity-underline inline cursor-pointer align-baseline whitespace-normal">Margit Reinpõld</span> andis omalt poolt ülevaate kooli senistest kogemustest ning tõi esile õpetajate valmisoleku muutustega kaasa minna. Ta märkis, et "Tark Kool" programm on aidanud kujundada õppijakesksemat lähenemist.</p><p data-start="1034" data-end="1311">Kohtumise käigus arutati ka edasisi plaane.</p><p data-start="1034" data-end="1311">Antti Leigri:</p><div class="xdj266r x14z9mp xat24cr x1lziwak x1vvkbs x126k92a" style="-webkit-text-stroke-width:0px;background-color:rgb(255, 255, 255);border-width:0px;box-sizing:border-box;color:rgb(5, 5, 5);font-family:&quot;Segoe UI Historic&quot;, &quot;Segoe UI&quot;, Helvetica, Arial, sans-serif;font-feature-settings:inherit;font-kerning:inherit;font-language-override:inherit;font-optical-sizing:inherit;font-size-adjust:inherit;font-size:15px;font-stretch:inherit;font-style:normal;font-variant-alternates:inherit;font-variant-caps:normal;font-variant-east-asian:inherit;font-variant-emoji:inherit;font-variant-ligatures:normal;font-variant-numeric:inherit;font-variant-position:inherit;font-variation-settings:inherit;font-weight:400;letter-spacing:normal;line-height:inherit;margin-inline:0px;margin:0px;orphans:2;overflow-wrap:break-word;padding:0px;text-align:start;text-decoration-color:initial;text-decoration-style:initial;text-decoration-thickness:initial;text-indent:0px;text-transform:none;vertical-align:baseline;white-space:pre-wrap;widows:2;word-spacing:0px;"><div style="border-width:0px;box-sizing:border-box;font:inherit;margin:0px;padding:0px;text-align:start;vertical-align:baseline;" dir="auto">Täna oli sisukas ja inspireeriv päev Koigi ja Imavere koolis.</div></div><div class="x14z9mp xat24cr x1lziwak x1vvkbs xtlvy1s x126k92a" style="-webkit-text-stroke-width:0px;background-color:rgb(255, 255, 255);border-width:0px;box-sizing:border-box;color:rgb(5, 5, 5);font-family:&quot;Segoe UI Historic&quot;, &quot;Segoe UI&quot;, Helvetica, Arial, sans-serif;font-feature-settings:inherit;font-kerning:inherit;font-language-override:inherit;font-optical-sizing:inherit;font-size-adjust:inherit;font-size:15px;font-stretch:inherit;font-style:normal;font-variant-alternates:inherit;font-variant-caps:normal;font-variant-east-asian:inherit;font-variant-emoji:inherit;font-variant-ligatures:normal;font-variant-numeric:inherit;font-variant-position:inherit;font-variation-settings:inherit;font-weight:400;letter-spacing:normal;line-height:inherit;margin-inline:0px;margin:0.5em 0px 0px;orphans:2;overflow-wrap:break-word;padding:0px;text-align:start;text-decoration-color:initial;text-decoration-style:initial;text-decoration-thickness:initial;text-indent:0px;text-transform:none;vertical-align:baseline;white-space:pre-wrap;widows:2;word-spacing:0px;"><div style="border-width:0px;box-sizing:border-box;font:inherit;margin:0px;padding:0px;text-align:start;vertical-align:baseline;" dir="auto">Mul on rõõm olla nende koolide mentor üldhariduskoolide arendusprogrammis 2022–2029, kus keskendume teadlikule ja andmepõhisele kooliarendusele ning õppijakeskse koolikultuuri kujundamisele.</div></div><div class="x14z9mp xat24cr x1lziwak x1vvkbs xtlvy1s x126k92a" style="-webkit-text-stroke-width:0px;background-color:rgb(255, 255, 255);border-width:0px;box-sizing:border-box;color:rgb(5, 5, 5);font-family:&quot;Segoe UI Historic&quot;, &quot;Segoe UI&quot;, Helvetica, Arial, sans-serif;font-feature-settings:inherit;font-kerning:inherit;font-language-override:inherit;font-optical-sizing:inherit;font-size-adjust:inherit;font-size:15px;font-stretch:inherit;font-style:normal;font-variant-alternates:inherit;font-variant-caps:normal;font-variant-east-asian:inherit;font-variant-emoji:inherit;font-variant-ligatures:normal;font-variant-numeric:inherit;font-variant-position:inherit;font-variation-settings:inherit;font-weight:400;letter-spacing:normal;line-height:inherit;margin-inline:0px;margin:0.5em 0px 0px;orphans:2;overflow-wrap:break-word;padding:0px;text-align:start;text-decoration-color:initial;text-decoration-style:initial;text-decoration-thickness:initial;text-indent:0px;text-transform:none;vertical-align:baseline;white-space:pre-wrap;widows:2;word-spacing:0px;"><div style="border-width:0px;box-sizing:border-box;font:inherit;margin:0px;padding:0px;text-align:start;vertical-align:baseline;" dir="auto">Kohtumisel arutasime koos koolimeeskonnaga olulisi teemasid. Kuidas teha paremaid otsuseid, toetada õpetajaid ja luua keskkond, kus iga õppija saab maksimaalselt areneda.</div></div><div class="x14z9mp xat24cr x1lziwak x1vvkbs xtlvy1s x126k92a" style="-webkit-text-stroke-width:0px;background-color:rgb(255, 255, 255);border-width:0px;box-sizing:border-box;color:rgb(5, 5, 5);font-family:&quot;Segoe UI Historic&quot;, &quot;Segoe UI&quot;, Helvetica, Arial, sans-serif;font-feature-settings:inherit;font-kerning:inherit;font-language-override:inherit;font-optical-sizing:inherit;font-size-adjust:inherit;font-size:15px;font-stretch:inherit;font-style:normal;font-variant-alternates:inherit;font-variant-caps:normal;font-variant-east-asian:inherit;font-variant-emoji:inherit;font-variant-ligatures:normal;font-variant-numeric:inherit;font-variant-position:inherit;font-variation-settings:inherit;font-weight:400;letter-spacing:normal;line-height:inherit;margin-inline:0px;margin:0.5em 0px 0px;orphans:2;overflow-wrap:break-word;padding:0px;text-align:start;text-decoration-color:initial;text-decoration-style:initial;text-decoration-thickness:initial;text-indent:0px;text-transform:none;vertical-align:baseline;white-space:pre-wrap;widows:2;word-spacing:0px;"><div style="border-width:0px;box-sizing:border-box;font:inherit;margin:0px;padding:0px;text-align:start;vertical-align:baseline;" dir="auto">Eriti hea meel oli kohtuda kooli direktori Margitiga, kes on avatud, pühendunud ja selge visiooniga juht, kelle eestvedamisel liiguvad koolid kindlalt edasi.</div></div><div class="x14z9mp xat24cr x1lziwak x1vvkbs xtlvy1s x126k92a" style="-webkit-text-stroke-width:0px;background-color:rgb(255, 255, 255);border-width:0px;box-sizing:border-box;color:rgb(5, 5, 5);font-family:&quot;Segoe UI Historic&quot;, &quot;Segoe UI&quot;, Helvetica, Arial, sans-serif;font-feature-settings:inherit;font-kerning:inherit;font-language-override:inherit;font-optical-sizing:inherit;font-size-adjust:inherit;font-size:15px;font-stretch:inherit;font-style:normal;font-variant-alternates:inherit;font-variant-caps:normal;font-variant-east-asian:inherit;font-variant-emoji:inherit;font-variant-ligatures:normal;font-variant-numeric:inherit;font-variant-position:inherit;font-variation-settings:inherit;font-weight:400;letter-spacing:normal;line-height:inherit;margin-inline:0px;margin:0.5em 0px 0px;orphans:2;overflow-wrap:break-word;padding:0px;text-align:start;text-decoration-color:initial;text-decoration-style:initial;text-decoration-thickness:initial;text-indent:0px;text-transform:none;vertical-align:baseline;white-space:pre-wrap;widows:2;word-spacing:0px;"><div style="border-width:0px;box-sizing:border-box;font:inherit;margin:0px;padding:0px;text-align:start;vertical-align:baseline;" dir="auto">Sellised kohtumised annavad energiat ja kinnitavad, et Eesti haridus areneb õigel teel: koostöös, usalduses ja pidevas õppimises.</div></div><p><strong>Link: </strong>https://www.koigikool.ee/et/sundmuste-kalender/kohtumine-koigi-kooli-mentoriga-programmist-tark-kool</p><p><strong>Hind: </strong></p>
X-MICROSOFT-CDO-BUSYSTATUS:OOF
X-MICROSOFT-CDO-IMPORTANCE:1
X-MICROSOFT-DISALLOW-COUNTER:FALSE
X-MS-OLK-ALLOWEXTERNCHECK:TRUE
X-MS-OLK-CONFTYPE:0
X-MICROSOFT-CDO-ALLDAYEVENT:1
X-MICROSOFT-MSNCALENDAR-ALLDAYEVENT:1
END:VEVENT
END:VCALENDAR