BEGIN:VCALENDAR
PRODID:-//Microsoft Corporation//Outlook 12.0 MIMEDIR//EN
VERSION:2.0
CALSCALE:GREGORIAN
BEGIN:VEVENT
UID: ee24b5d3-094b-4bd7-8661-efb0b032bf3f
SUMMARY:Järvamaa koolinoorte sügiskross
DTSTAMP:20240927
DTSTART:20240927
DTEND:20240928
DURATION:P1D
LOCATION:
DESCRIPTION: <p><strong>Link: </strong>https://www.koigikool.ee/et/sundmuste-kalender/jarvamaa-koolinoorte-sugiskross-0</p><p><strong>Hind: </strong></p>
STATUS:CONFIRMED
SEQUENCE:3
X-ALT-DESC;FMTTYPE=text/html:<p><strong>Link: </strong>https://www.koigikool.ee/et/sundmuste-kalender/jarvamaa-koolinoorte-sugiskross-0</p><p><strong>Hind: </strong></p>
X-MICROSOFT-CDO-BUSYSTATUS:OOF
X-MICROSOFT-CDO-IMPORTANCE:1
X-MICROSOFT-DISALLOW-COUNTER:FALSE
X-MS-OLK-ALLOWEXTERNCHECK:TRUE
X-MS-OLK-CONFTYPE:0
X-MICROSOFT-CDO-ALLDAYEVENT:1
X-MICROSOFT-MSNCALENDAR-ALLDAYEVENT:1
END:VEVENT
END:VCALENDAR